BEGIN:VCALENDAR
VERSION:2.0
PRODID:-//Bilety Warszawa | Filharmonia dla Dzieci
CALSCALE:GREGORIAN
METHOD:PUBLISH
X-WR-CALNAME:Bilety Warszawa | Filharmonia dla Dzieci
X-ORIGINAL-URL:https://filharmoniadladzieci.pl/sklep/produkt/muzyka-amerykanska-z-cyklu-poznajemy-muzyke-swiata-koncerty-dla-dzieci/
X-WR-CALDESC:GITARY, BANJO, BASY! :) I mnóstwo wspaniałej różnorodnej muzyki!!
BEGIN:VEVENT
DTSTART;TZID=Europe/Helsinki:20230521T000000
DTEND;TZID=Europe/Helsinki:20230521T000000
SUMMARY:GITARY, BANJO, BASY! :) I mnóstwo wspaniałej różnorodnej muzyki!!
DESCRIPTION:Wyprzedane! ZDOBĄDŹ BILETY na naszej grupie FB @Grupa Filharmonia dla Dzieci Warszawa
URL:https://filharmoniadladzieci.pl/sklep/produkt/muzyka-amerykanska-z-cyklu-poznajemy-muzyke-swiata-koncerty-dla-dzieci/
LOCATION:PAŁAC STASZICA - SALA LUSTRZANA  - Warszawa - Nowy Świat 72
END:VEVENT
END:VCALENDAR
